BEGIN:VCALENDAR
VERSION:2.0
PRODID:-//Sara Nussbaum Zentrum für Jüdisches Leben - ECPv6.0.13//NONSGML v1.0//EN
CALSCALE:GREGORIAN
METHOD:PUBLISH
X-ORIGINAL-URL:https://sara-nussbaum-zentrum.de
X-WR-CALDESC:Veranstaltungen für Sara Nussbaum Zentrum für Jüdisches Leben
REFRESH-INTERVAL;VALUE=DURATION:PT1H
X-Robots-Tag:noindex
X-PUBLISHED-TTL:PT1H
BEGIN:VTIMEZONE
TZID:Europe/Berlin
BEGIN:DAYLIGHT
TZOFFSETFROM:+0100
TZOFFSETTO:+0200
TZNAME:CEST
DTSTART:20250330T010000
END:DAYLIGHT
BEGIN:STANDARD
TZOFFSETFROM:+0200
TZOFFSETTO:+0100
TZNAME:CET
DTSTART:20251026T010000
END:STANDARD
END:VTIMEZONE
BEGIN:VEVENT
DTSTART;TZID=Europe/Berlin:20251213T190000
DTEND;TZID=Europe/Berlin:20251213T203000
DTSTAMP:20260423T143438
CREATED:20251128T164213Z
LAST-MODIFIED:20251202T134004Z
UID:10000065-1765652400-1765657800@sara-nussbaum-zentrum.de
SUMMARY:Jugendtheaterstück „I Am Not Apologizing For Surviving“ - Spuren von Gestern und Heute
DESCRIPTION:Das Jugendtheaterstück „I Am Not ApologizingFor Surviving“ nimmt die jüdische Geschichte als Ausgangspunkt\, um zentrale Fragen zu Heimat\, Ausgrenzung und Identität in den Mittelpunkt zu stellen – Themen\, die auch für junge Menschen in Deutschland heute von großer Relevanz sind. \nDas Stück wurde im Jahr 2024 von Jugendlichen aus Kassel initiiert\, gemeinsam entwickelt und uraufgeführt. Im Verlauf des Projekts wuchs das Ensemble: Neue Mitwirkende brachten ihre eigenen Perspektiven\, Erfahrungen und kreativen Impulse ein. So entstand ein vielschichtiges\, von jungen Stimmen getragenes Werk\, das die komplexe Gegenwart aufgreift und reflektiert. \n„I Am Not Apologizing“ versteht sich als künstlerischer Kommentar zu einer Zeit\, die von gesellschaftlichen Umbrüchen\, Unsicherheiten und Identitätssuche geprägt ist – eindrucksvoll und bewegend umgesetzt durch junge Menschen\, die ihre Geschichten erzählen. \nWann? Sonntag\, 13.12.2025\, 19:00 Uhr\n \nWo? Kasseler Kunstverein im Fridericianum\nFriedrichsplatz 18\, 34117 Kassel \n Eintritt frei\, Spenden willkommen\nIm Rahmen des kooperativen Kunstprojektes von Catrine Val &#8222;Kaleidoskop der Zeit&#8220;.\nGefördert vom Hessischen Ministerium für Wissenschaft und Forschung\, Kunst und Kultur im Rahmen der Ottilie-Roederstein-Stipendium und im Rahmen des Landesprogramms &#8222;Hessen aktiv für Demokratie und gegen Extremismus&#8220;.
URL:https://sara-nussbaum-zentrum.de/event/jugendtheaterstueck_i_am_not_apologizing/
LOCATION:Kasseler Kunstverein im Fridericianum\, Friedrichsplatz 18\, Kassel\, Hessen\, 34117
CATEGORIES:Aufführung
ATTACH;FMTTYPE=image/png:https://sara-nussbaum-zentrum.de/wp-content/uploads/2025/11/I-am-not-apologizing-Plakat.png
END:VEVENT
END:VCALENDAR