BEGIN:VCALENDAR
VERSION:2.0
PRODID:-//Sara Nussbaum Zentrum für Jüdisches Leben - ECPv6.0.13//NONSGML v1.0//EN
CALSCALE:GREGORIAN
METHOD:PUBLISH
X-ORIGINAL-URL:https://sara-nussbaum-zentrum.de
X-WR-CALDESC:Veranstaltungen für Sara Nussbaum Zentrum für Jüdisches Leben
REFRESH-INTERVAL;VALUE=DURATION:PT1H
X-Robots-Tag:noindex
X-PUBLISHED-TTL:PT1H
BEGIN:VTIMEZONE
TZID:Europe/Berlin
BEGIN:DAYLIGHT
TZOFFSETFROM:+0100
TZOFFSETTO:+0200
TZNAME:CEST
DTSTART:20240331T010000
END:DAYLIGHT
BEGIN:STANDARD
TZOFFSETFROM:+0200
TZOFFSETTO:+0100
TZNAME:CET
DTSTART:20241027T010000
END:STANDARD
END:VTIMEZONE
BEGIN:VEVENT
DTSTART;TZID=Europe/Berlin:20240306T200000
DTEND;TZID=Europe/Berlin:20240306T213000
DTSTAMP:20260420T154105
CREATED:20240213T110835Z
LAST-MODIFIED:20240213T112812Z
UID:10000023-1709755200-1709760600@sara-nussbaum-zentrum.de
SUMMARY:"... und der Regen rinnt"
DESCRIPTION:Das Theaterstück &#8222;&#8230; und der Regen rinnt&#8220; erzählt die Geschichte von Sara Nussbaum und drei weiteren Frauen im Ghetto Theresienstadt. \nWeitere Informationen des Stücks finden Sie hier auf unserer Website. \nInformationen zu Tickets entnehmen sie bitte der Website des Veranstalters.
URL:https://sara-nussbaum-zentrum.de/event/und-der-regen-rinnt-theaterstuebchen/
LOCATION:Theaterstübchen Kassel\, Jordanstrasse 11\, Kassel\, 34117\, Deutschland
CATEGORIES:Aufführung
ATTACH;FMTTYPE=image/jpeg:https://sara-nussbaum-zentrum.de/wp-content/uploads/2024/02/Insta-Post_Theaterstuebchen_1920.jpg
END:VEVENT
END:VCALENDAR